BEGIN:VCALENDAR
VERSION:2.0
PRODID:-//Jackson Heights Insider - ECPv6.15.20//NONSGML v1.0//EN
CALSCALE:GREGORIAN
METHOD:PUBLISH
X-WR-CALNAME:Jackson Heights Insider
X-ORIGINAL-URL:https://jacksonheightsinsider.com
X-WR-CALDESC:Events for Jackson Heights Insider
REFRESH-INTERVAL;VALUE=DURATION:PT1H
X-Robots-Tag:noindex
X-PUBLISHED-TTL:PT1H
BEGIN:VTIMEZONE
TZID:America/New_York
BEGIN:DAYLIGHT
TZOFFSETFROM:-0500
TZOFFSETTO:-0400
TZNAME:EDT
DTSTART:20250309T070000
END:DAYLIGHT
BEGIN:STANDARD
TZOFFSETFROM:-0400
TZOFFSETTO:-0500
TZNAME:EST
DTSTART:20251102T060000
END:STANDARD
BEGIN:DAYLIGHT
TZOFFSETFROM:-0500
TZOFFSETTO:-0400
TZNAME:EDT
DTSTART:20260308T070000
END:DAYLIGHT
BEGIN:STANDARD
TZOFFSETFROM:-0400
TZOFFSETTO:-0500
TZNAME:EST
DTSTART:20261101T060000
END:STANDARD
BEGIN:DAYLIGHT
TZOFFSETFROM:-0500
TZOFFSETTO:-0400
TZNAME:EDT
DTSTART:20270314T070000
END:DAYLIGHT
BEGIN:STANDARD
TZOFFSETFROM:-0400
TZOFFSETTO:-0500
TZNAME:EST
DTSTART:20271107T060000
END:STANDARD
END:VTIMEZONE
BEGIN:VEVENT
DTSTART;TZID=America/New_York:20260427T210000
DTEND;TZID=America/New_York:20260427T220000
DTSTAMP:20260421T102151
CREATED:20260310T071329Z
LAST-MODIFIED:20260419T195413Z
UID:23312-1777323600-1777327200@jacksonheightsinsider.com
SUMMARY:Monday Improv Jam
DESCRIPTION:Sign up and play pretend like an adult.\nAn improv jam is an open\, low-pressure playground where performers of all experience levels jump on stage\, get mixed into teams\, and create scenes on the spot. Whether it’s your first time or your hundredth show\, you’ll get a chance to play\, experiment\, and connect with other improvisers in a supportive\, fun environment.
URL:https://jacksonheightsinsider.com/event/monday-improv-jam-2/
LOCATION:Grove 34 Comedy Club\, 31-83 34th St\, Astoria\, NY 11106\, USA
ATTACH;FMTTYPE=image/png:https://jacksonheightsinsider.com/wp-content/uploads/2026/03/Monday-Improv-Jam.png
END:VEVENT
BEGIN:VEVENT
DTSTART;TZID=America/New_York:20260430T180000
DTEND;TZID=America/New_York:20260430T210000
DTSTAMP:20260421T102151
CREATED:20260416T185624Z
LAST-MODIFIED:20260416T185624Z
UID:27370-1777572000-1777582800@jacksonheightsinsider.com
SUMMARY:Blocks of Joy Benefit
DESCRIPTION:Join us for a community-powered benefit in support of Alliance for Paseo Park and our vision to transform 34th Avenue into a permanent\, people-first linear park in Jackson Heights. This joyful evening brings neighbors\, artists\, advocates\, and friends together to celebrate the creativity and collective care that fuel Paseo Park. Through art\, storytelling\, and shared connection\, we are raising critical funds to support our advocacy\, programming\, maintenance\, and community-led stewardship of Paseo Park. Every ticket helps us build a greener\, safer\, more vibrant public space for families\, elders\, and future generations. Come celebrate what we have built together and help us grow what comes next.
URL:https://jacksonheightsinsider.com/event/blocks-of-joy-benefit/
LOCATION:The Queensboro\, 80-02 Northern Blvd\, Jackson Heights\, NY 11372\, USA
ATTACH;FMTTYPE=image/png:https://jacksonheightsinsider.com/wp-content/uploads/2026/04/Blocks-of-Joy-Benefit.png
END:VEVENT
END:VCALENDAR