BEGIN:VCALENDAR
VERSION:2.0
PRODID:-//Jackson Heights Insider - ECPv6.15.20//NONSGML v1.0//EN
CALSCALE:GREGORIAN
METHOD:PUBLISH
X-WR-CALNAME:Jackson Heights Insider
X-ORIGINAL-URL:https://jacksonheightsinsider.com
X-WR-CALDESC:Events for Jackson Heights Insider
REFRESH-INTERVAL;VALUE=DURATION:PT1H
X-Robots-Tag:noindex
X-PUBLISHED-TTL:PT1H
BEGIN:VTIMEZONE
TZID:America/New_York
BEGIN:DAYLIGHT
TZOFFSETFROM:-0500
TZOFFSETTO:-0400
TZNAME:EDT
DTSTART:20250309T070000
END:DAYLIGHT
BEGIN:STANDARD
TZOFFSETFROM:-0400
TZOFFSETTO:-0500
TZNAME:EST
DTSTART:20251102T060000
END:STANDARD
BEGIN:DAYLIGHT
TZOFFSETFROM:-0500
TZOFFSETTO:-0400
TZNAME:EDT
DTSTART:20260308T070000
END:DAYLIGHT
BEGIN:STANDARD
TZOFFSETFROM:-0400
TZOFFSETTO:-0500
TZNAME:EST
DTSTART:20261101T060000
END:STANDARD
BEGIN:DAYLIGHT
TZOFFSETFROM:-0500
TZOFFSETTO:-0400
TZNAME:EDT
DTSTART:20270314T070000
END:DAYLIGHT
BEGIN:STANDARD
TZOFFSETFROM:-0400
TZOFFSETTO:-0500
TZNAME:EST
DTSTART:20271107T060000
END:STANDARD
END:VTIMEZONE
BEGIN:VEVENT
DTSTART;TZID=America/New_York:20260427T073000
DTEND;TZID=America/New_York:20260427T113000
DTSTAMP:20260420T200921
CREATED:20260420T145844Z
LAST-MODIFIED:20260420T145844Z
UID:7737-1777275000-1777289400@jacksonheightsinsider.com
SUMMARY:La tienda del Pueblo Clothing Donations
DESCRIPTION:It’s our weekly community clothing swap. Neighbors drop off gently used clothes and leave with something new-to-them for themselves or their kids. \nIt’s a sustainable way to refresh your wardrobe while keeping perfectly good clothing out of landfills. \nThat’s why we ask everyone to bring clean\, gently used items you’d be happy to wear yourself. \nWe’re so grateful for our neighbors who show up with generosity and care\, and endlessly thankful for the volunteers who make Tienda del Pueblo possible every week.
URL:https://jacksonheightsinsider.com/event/la-tienda-del-pueblo-clothing-donations-2/
LOCATION:34th Ave & 77th St\, Queens\, NY 11372\, USA
ATTACH;FMTTYPE=image/png:https://jacksonheightsinsider.com/wp-content/uploads/2026/01/la-tienda-del-pueblo-4.png
END:VEVENT
BEGIN:VEVENT
DTSTART;TZID=America/New_York:20260427T180000
DTEND;TZID=America/New_York:20260427T190000
DTSTAMP:20260420T200921
CREATED:20250830T033248Z
LAST-MODIFIED:20260418T091659Z
UID:18409-1777312800-1777316400@jacksonheightsinsider.com
SUMMARY:Queens Distance Runners: Jackson Heights Community Run @ Queensboro
DESCRIPTION:The Meetup is 6:00PM opposite The Queensboro. We wait until 6:05PM\, take our Weekly Photo at the mural\, then head off for our beautiful 5K route. \nRoute: Down 34th Avenue to 69th\, return and head all the way to PS 149 for 2 loops\, returning all the way back on 34th ending at Travers Park for your 5K.
URL:https://jacksonheightsinsider.com/event/queens-distance-runners-jackson-heights-community-run-queensboro-2/
LOCATION:80th St & Northern Blvd\, Queens\, NY 11372\, USA
ATTACH;FMTTYPE=image/png:https://jacksonheightsinsider.com/wp-content/uploads/2025/07/SCR-20250721-tsyi-2.png
END:VEVENT
BEGIN:VEVENT
DTSTART;TZID=America/New_York:20260427T190000
DTEND;TZID=America/New_York:20260427T210000
DTSTAMP:20260420T200921
CREATED:20250817T115458Z
LAST-MODIFIED:20260419T070943Z
UID:15341-1777316400-1777323600@jacksonheightsinsider.com
SUMMARY:Figure Drawing Mondays / Sesion de Dibujo con Modelo (JH’s Drink & Draw
DESCRIPTION:Figure Drawing Session (w/ live model) / Sesion de Dibujo (con modelo en vivo)\, 14+ \n\nWorking from a live nude model\, we move from short poses for sketches to long poses for complete\, finished drawings. Whether you want to focus on drawing or are looking to develop your skills as a painter\, figure drawing is the time-honored way to develop skills that impact many art practices. \nCome sketch with us weekly on Mondays in a relaxed intimate art setting. \n$20 per person/por persona – ticket below or on eventbrite or give us a call 718-406-9444 \n\n\n\n\n\n\n\n\nFigure Drawing Mondays – April 27\, 2026\, 7PM (DRINK N DRAW)
URL:https://jacksonheightsinsider.com/event/figure-drawing-mondays-sesion-de-dibujo-con-modelo-jhs-drink-draw/
LOCATION:A.R.T. Shop\, 84-26 37th Ave\, Jackson Heights\, NY 11372\, USA
ATTACH;FMTTYPE=image/png:https://jacksonheightsinsider.com/wp-content/uploads/2025/07/Figure-Drawing-Session.png
END:VEVENT
BEGIN:VEVENT
DTSTART;TZID=America/New_York:20260427T193000
DTEND;TZID=America/New_York:20260427T223000
DTSTAMP:20260420T200921
CREATED:20251123T145508Z
LAST-MODIFIED:20260420T040327Z
UID:18493-1777318200-1777329000@jacksonheightsinsider.com
SUMMARY:Román Díaz & La Rumba de los Lunes
DESCRIPTION:Cuban-born master percussionist Román Díaz —a “living repository” of Afro-Cuban culture— leads La Rumba Cubana de Queens at Terraza 7\, a powerful weekly gathering where tradition\, improvisation\, and community come together every Monday. \nAdmission: $20: Cover charge for Mezzanine seating \nFeaturing:\nRoger Consiglio / Vocals.\nMáximo Valdés / Vocals.\nRafael Monteagudo / Percussion.\nClemente Medina / Percussion.\nRomán Diaz / Percussion; Spoken Word and folklorist. \nAbout Roman Diaz: \nRenowned as a master percussionist\, scholar\, and composer\, Román Díaz is often revered as a living archive of Afro Cuban music. His illustrious career includes performances and recordings with eminent musicians such as Merceditas Valdés\, Raíces Profundas\, Los Marqueses de Atarés\, Jane Bunett\, Orlando “Puntilla” Ríos\, Paquito D’Rivera\, Oriente Lopez\, Giovanni Hidalgo\, David Virelles\, Chucho Valdés\, and Wynton Marsalis. \nHis mentorship under the legendary Pancho Quinto\, founder of the pioneering rumba ensemble Yoruba Andabo\, has seen Díaz contribute significantly to the evolution of the rumba sound that has defined Cuban music since the 1980s\, and resonates with audiences globally. His expertise in Batá\, combined with an unyielding rhythm on the congas\, has been immortalized in numerous recordings across the world. \nAs an ardent educator\, Díaz has traversed the globe\, imparting his deep knowledge of Afro Cuban percussion through master classes. His profound understanding of the cultural roots and the narrative sensibility of his artistry make him a unique musical visionary\, potentially guiding the future evolution of this musical form.
URL:https://jacksonheightsinsider.com/event/roman-diaz-la-rumba-de-los-lunes/
LOCATION:Terraza 7\, 40-19 Gleane St\, Elmhurst\, NY 11373\, USA
ATTACH;FMTTYPE=image/png:https://jacksonheightsinsider.com/wp-content/uploads/2025/11/Roman-Diaz-4.png
END:VEVENT
BEGIN:VEVENT
DTSTART;TZID=America/New_York:20260427T210000
DTEND;TZID=America/New_York:20260427T220000
DTSTAMP:20260420T200921
CREATED:20260310T071329Z
LAST-MODIFIED:20260419T195413Z
UID:23312-1777323600-1777327200@jacksonheightsinsider.com
SUMMARY:Monday Improv Jam
DESCRIPTION:Sign up and play pretend like an adult.\nAn improv jam is an open\, low-pressure playground where performers of all experience levels jump on stage\, get mixed into teams\, and create scenes on the spot. Whether it’s your first time or your hundredth show\, you’ll get a chance to play\, experiment\, and connect with other improvisers in a supportive\, fun environment.
URL:https://jacksonheightsinsider.com/event/monday-improv-jam-2/
LOCATION:Grove 34 Comedy Club\, 31-83 34th St\, Astoria\, NY 11106\, USA
ATTACH;FMTTYPE=image/png:https://jacksonheightsinsider.com/wp-content/uploads/2026/03/Monday-Improv-Jam.png
END:VEVENT
BEGIN:VEVENT
DTSTART;TZID=America/New_York:20260430T180000
DTEND;TZID=America/New_York:20260430T210000
DTSTAMP:20260420T200921
CREATED:20260416T185624Z
LAST-MODIFIED:20260416T185624Z
UID:27370-1777572000-1777582800@jacksonheightsinsider.com
SUMMARY:Blocks of Joy Benefit
DESCRIPTION:Join us for a community-powered benefit in support of Alliance for Paseo Park and our vision to transform 34th Avenue into a permanent\, people-first linear park in Jackson Heights. This joyful evening brings neighbors\, artists\, advocates\, and friends together to celebrate the creativity and collective care that fuel Paseo Park. Through art\, storytelling\, and shared connection\, we are raising critical funds to support our advocacy\, programming\, maintenance\, and community-led stewardship of Paseo Park. Every ticket helps us build a greener\, safer\, more vibrant public space for families\, elders\, and future generations. Come celebrate what we have built together and help us grow what comes next.
URL:https://jacksonheightsinsider.com/event/blocks-of-joy-benefit/
LOCATION:The Queensboro\, 80-02 Northern Blvd\, Jackson Heights\, NY 11372\, USA
ATTACH;FMTTYPE=image/png:https://jacksonheightsinsider.com/wp-content/uploads/2026/04/Blocks-of-Joy-Benefit.png
END:VEVENT
END:VCALENDAR